BEGIN:VCALENDAR
VERSION:2.0
PRODID:-//Dr. Fingerle Rechtsanwälte GbR - Leipzig - ECPv6.15.20//NONSGML v1.0//EN
CALSCALE:GREGORIAN
METHOD:PUBLISH
X-ORIGINAL-URL:https://dr-fingerle.de
X-WR-CALDESC:Veranstaltungen für Dr. Fingerle Rechtsanwälte GbR - Leipzig
REFRESH-INTERVAL;VALUE=DURATION:PT1H
X-Robots-Tag:noindex
X-PUBLISHED-TTL:PT1H
BEGIN:VTIMEZONE
TZID:Europe/Berlin
BEGIN:DAYLIGHT
TZOFFSETFROM:+0100
TZOFFSETTO:+0200
TZNAME:CEST
DTSTART:20240331T010000
END:DAYLIGHT
BEGIN:STANDARD
TZOFFSETFROM:+0200
TZOFFSETTO:+0100
TZNAME:CET
DTSTART:20241027T010000
END:STANDARD
BEGIN:DAYLIGHT
TZOFFSETFROM:+0100
TZOFFSETTO:+0200
TZNAME:CEST
DTSTART:20250330T010000
END:DAYLIGHT
BEGIN:STANDARD
TZOFFSETFROM:+0200
TZOFFSETTO:+0100
TZNAME:CET
DTSTART:20251026T010000
END:STANDARD
BEGIN:DAYLIGHT
TZOFFSETFROM:+0100
TZOFFSETTO:+0200
TZNAME:CEST
DTSTART:20260329T010000
END:DAYLIGHT
BEGIN:STANDARD
TZOFFSETFROM:+0200
TZOFFSETTO:+0100
TZNAME:CET
DTSTART:20261025T010000
END:STANDARD
END:VTIMEZONE
BEGIN:VEVENT
DTSTART;TZID=Europe/Berlin:20251203T140000
DTEND;TZID=Europe/Berlin:20251206T140000
DTSTAMP:20260423T023530
CREATED:20240715T125906Z
LAST-MODIFIED:20250723T073813Z
UID:17287-1764770400-1765029600@dr-fingerle.de
SUMMARY:ARBER-Seminare GmbH Fachanwaltslehrgang Erbrechts
DESCRIPTION:
URL:https://dr-fingerle.de/event/raeume-vermietet-35/
CATEGORIES:Fachanwaltslehrgang
END:VEVENT
BEGIN:VEVENT
DTSTART;TZID=Europe/Berlin:20251210T140000
DTEND;TZID=Europe/Berlin:20251213T140000
DTSTAMP:20260423T023530
CREATED:20240715T125956Z
LAST-MODIFIED:20250723T074010Z
UID:17289-1765375200-1765634400@dr-fingerle.de
SUMMARY:ARBER-Seminare GmbH Fachanwaltslehrgang Handelsrechts
DESCRIPTION:
URL:https://dr-fingerle.de/event/raeume-vermietet-36/
CATEGORIES:Fachanwaltslehrgang
END:VEVENT
BEGIN:VEVENT
DTSTART;TZID=Europe/Berlin:20251217T140000
DTEND;TZID=Europe/Berlin:20251220T180000
DTSTAMP:20260423T023530
CREATED:20240715T130034Z
LAST-MODIFIED:20250723T074222Z
UID:17291-1765980000-1766253600@dr-fingerle.de
SUMMARY:ARBER-Seminare GmbH Fachanwaltslehrgang Erbrechtts
DESCRIPTION:
URL:https://dr-fingerle.de/event/raeume-vermietet-37/
CATEGORIES:Fachanwaltslehrgang
END:VEVENT
END:VCALENDAR