BEGIN:VCALENDAR
VERSION:2.0
PRODID:-//Dr. Fingerle Rechtsanwälte GbR - Leipzig - ECPv6.15.20//NONSGML v1.0//EN
CALSCALE:GREGORIAN
METHOD:PUBLISH
X-ORIGINAL-URL:https://dr-fingerle.de
X-WR-CALDESC:Veranstaltungen für Dr. Fingerle Rechtsanwälte GbR - Leipzig
REFRESH-INTERVAL;VALUE=DURATION:PT1H
X-Robots-Tag:noindex
X-PUBLISHED-TTL:PT1H
BEGIN:VTIMEZONE
TZID:Europe/Berlin
BEGIN:DAYLIGHT
TZOFFSETFROM:+0100
TZOFFSETTO:+0200
TZNAME:CEST
DTSTART:20240331T010000
END:DAYLIGHT
BEGIN:STANDARD
TZOFFSETFROM:+0200
TZOFFSETTO:+0100
TZNAME:CET
DTSTART:20241027T010000
END:STANDARD
BEGIN:DAYLIGHT
TZOFFSETFROM:+0100
TZOFFSETTO:+0200
TZNAME:CEST
DTSTART:20250330T010000
END:DAYLIGHT
BEGIN:STANDARD
TZOFFSETFROM:+0200
TZOFFSETTO:+0100
TZNAME:CET
DTSTART:20251026T010000
END:STANDARD
BEGIN:DAYLIGHT
TZOFFSETFROM:+0100
TZOFFSETTO:+0200
TZNAME:CEST
DTSTART:20260329T010000
END:DAYLIGHT
BEGIN:STANDARD
TZOFFSETFROM:+0200
TZOFFSETTO:+0100
TZNAME:CET
DTSTART:20261025T010000
END:STANDARD
END:VTIMEZONE
BEGIN:VEVENT
DTSTART;TZID=Europe/Berlin:20250903T140000
DTEND;TZID=Europe/Berlin:20250906T140000
DTSTAMP:20260424T200458
CREATED:20240715T125351Z
LAST-MODIFIED:20250723T071734Z
UID:17275-1756908000-1757167200@dr-fingerle.de
SUMMARY:ARBER-Seminare GmbH Fachanwaltslehrgang Strafrecht
DESCRIPTION:
URL:https://dr-fingerle.de/event/raeume-vermietet-29/
CATEGORIES:Fachanwaltslehrgang
END:VEVENT
BEGIN:VEVENT
DTSTART;TZID=Europe/Berlin:20250917T140000
DTEND;TZID=Europe/Berlin:20250920T140000
DTSTAMP:20260424T200458
CREATED:20240715T125452Z
LAST-MODIFIED:20250723T072121Z
UID:17277-1758117600-1758376800@dr-fingerle.de
SUMMARY:ARBER-Seminare GmbH Fachanwaltslehrgang Baurechts
DESCRIPTION:
URL:https://dr-fingerle.de/event/raeume-vermietet-30/
CATEGORIES:Fachanwaltslehrgang
END:VEVENT
BEGIN:VEVENT
DTSTART;TZID=Europe/Berlin:20250925T150000
DTEND;TZID=Europe/Berlin:20250925T210000
DTSTAMP:20260424T200458
CREATED:20250723T080338Z
LAST-MODIFIED:20250723T094532Z
UID:17785-1758812400-1758834000@dr-fingerle.de
SUMMARY:Vortrag "Vermögen schützen - aber wie?" iKm Liechtensteinische Landesbank
DESCRIPTION:
URL:https://dr-fingerle.de/event/raeume-vermietet-48/
CATEGORIES:Räume vermietet
END:VEVENT
BEGIN:VEVENT
DTSTART;TZID=Europe/Berlin:20250925T173000
DTEND;TZID=Europe/Berlin:20250925T193000
DTSTAMP:20260424T200458
CREATED:20250917T143356Z
LAST-MODIFIED:20250917T143450Z
UID:18074-1758821400-1758828600@dr-fingerle.de
SUMMARY:„Vermögen schützen. Lebenswerke sichern“ in Kooperation mit der Liechtensteiner Landesbank
DESCRIPTION:
URL:https://dr-fingerle.de/event/vermoegen-schuetzen-lebenswerke-sichern-in-kooperation-mit-der-liechtensteiner-landesbank/
LOCATION:Villa Najork\, Ferdinand-Lassalle-Str. 22\, Leipzig\, 04109\, Deutschland
END:VEVENT
BEGIN:VEVENT
DTSTART;TZID=Europe/Berlin:20250926T183000
DTEND;TZID=Europe/Berlin:20250926T210000
DTSTAMP:20260424T200458
CREATED:20250723T080918Z
LAST-MODIFIED:20250723T095609Z
UID:17787-1758911400-1758920400@dr-fingerle.de
SUMMARY:After Work Concert - "Von Herz zu Farbe"
DESCRIPTION:
URL:https://dr-fingerle.de/event/konzert/
CATEGORIES:Fachanwaltslehrgang
END:VEVENT
END:VCALENDAR