BEGIN:VCALENDAR
VERSION:2.0
PRODID:-//Dr. Fingerle Rechtsanwälte GbR - Leipzig - ECPv6.15.20//NONSGML v1.0//EN
CALSCALE:GREGORIAN
METHOD:PUBLISH
X-ORIGINAL-URL:https://dr-fingerle.de
X-WR-CALDESC:Veranstaltungen für Dr. Fingerle Rechtsanwälte GbR - Leipzig
REFRESH-INTERVAL;VALUE=DURATION:PT1H
X-Robots-Tag:noindex
X-PUBLISHED-TTL:PT1H
BEGIN:VTIMEZONE
TZID:Europe/Berlin
BEGIN:DAYLIGHT
TZOFFSETFROM:+0100
TZOFFSETTO:+0200
TZNAME:CEST
DTSTART:20230326T010000
END:DAYLIGHT
BEGIN:STANDARD
TZOFFSETFROM:+0200
TZOFFSETTO:+0100
TZNAME:CET
DTSTART:20231029T010000
END:STANDARD
BEGIN:DAYLIGHT
TZOFFSETFROM:+0100
TZOFFSETTO:+0200
TZNAME:CEST
DTSTART:20240331T010000
END:DAYLIGHT
BEGIN:STANDARD
TZOFFSETFROM:+0200
TZOFFSETTO:+0100
TZNAME:CET
DTSTART:20241027T010000
END:STANDARD
BEGIN:DAYLIGHT
TZOFFSETFROM:+0100
TZOFFSETTO:+0200
TZNAME:CEST
DTSTART:20250330T010000
END:DAYLIGHT
BEGIN:STANDARD
TZOFFSETFROM:+0200
TZOFFSETTO:+0100
TZNAME:CET
DTSTART:20251026T010000
END:STANDARD
END:VTIMEZONE
BEGIN:VEVENT
DTSTART;TZID=Europe/Berlin:20240904T140000
DTEND;TZID=Europe/Berlin:20240907T140000
DTSTAMP:20260423T085111
CREATED:20240715T115555Z
LAST-MODIFIED:20240715T115555Z
UID:17227-1725458400-1725717600@dr-fingerle.de
SUMMARY:Räume vermietet
DESCRIPTION:
URL:https://dr-fingerle.de/event/raeume-vermietet-6/
CATEGORIES:Räume vermietet
END:VEVENT
BEGIN:VEVENT
DTSTART;TZID=Europe/Berlin:20240905T190000
DTEND;TZID=Europe/Berlin:20240905T203000
DTSTAMP:20260423T085111
CREATED:20240812T071141Z
LAST-MODIFIED:20240812T073236Z
UID:17335-1725562800-1725568200@dr-fingerle.de
SUMMARY:Räume vermietet
DESCRIPTION:
URL:https://dr-fingerle.de/event/raeume-vermietet-44/
LOCATION:Villa Najork\, Ferdinand-Lassalle-Str. 22\, Leipzig\, 04109\, Deutschland
CATEGORIES:Räume vermietet
END:VEVENT
BEGIN:VEVENT
DTSTART;TZID=Europe/Berlin:20240907T150000
DTEND;TZID=Europe/Berlin:20240907T220000
DTSTAMP:20260423T085111
CREATED:20240903T103919Z
LAST-MODIFIED:20240903T103919Z
UID:17388-1725721200-1725746400@dr-fingerle.de
SUMMARY:Räume vermietet
DESCRIPTION:
URL:https://dr-fingerle.de/event/raeume-vermietet-46/
LOCATION:Villa Najork\, Ferdinand-Lassalle-Str. 22\, Leipzig\, 04109\, Deutschland
CATEGORIES:Räume vermietet
END:VEVENT
BEGIN:VEVENT
DTSTART;TZID=Europe/Berlin:20240912T190000
DTEND;TZID=Europe/Berlin:20240912T203000
DTSTAMP:20260423T085111
CREATED:20240812T073442Z
LAST-MODIFIED:20240812T073442Z
UID:17337-1726167600-1726173000@dr-fingerle.de
SUMMARY:Räume vermietet
DESCRIPTION:
URL:https://dr-fingerle.de/event/raeume-vermietet-45/
LOCATION:Villa Najork\, Ferdinand-Lassalle-Str. 22\, Leipzig\, 04109\, Deutschland
CATEGORIES:Räume vermietet
END:VEVENT
BEGIN:VEVENT
DTSTART;TZID=Europe/Berlin:20240918T140000
DTEND;TZID=Europe/Berlin:20240921T180000
DTSTAMP:20260423T085111
CREATED:20240715T115651Z
LAST-MODIFIED:20240715T115651Z
UID:17229-1726668000-1726941600@dr-fingerle.de
SUMMARY:Räume vermietet
DESCRIPTION:
URL:https://dr-fingerle.de/event/raeume-vermietet-7/
CATEGORIES:Räume vermietet
END:VEVENT
END:VCALENDAR