BEGIN:VCALENDAR
VERSION:2.0
PRODID:-//Dr. Fingerle Rechtsanwälte GbR - Leipzig - ECPv6.15.20//NONSGML v1.0//EN
CALSCALE:GREGORIAN
METHOD:PUBLISH
X-ORIGINAL-URL:https://dr-fingerle.de
X-WR-CALDESC:Veranstaltungen für Dr. Fingerle Rechtsanwälte GbR - Leipzig
REFRESH-INTERVAL;VALUE=DURATION:PT1H
X-Robots-Tag:noindex
X-PUBLISHED-TTL:PT1H
BEGIN:VTIMEZONE
TZID:Europe/Berlin
BEGIN:DAYLIGHT
TZOFFSETFROM:+0100
TZOFFSETTO:+0200
TZNAME:CEST
DTSTART:20230326T010000
END:DAYLIGHT
BEGIN:STANDARD
TZOFFSETFROM:+0200
TZOFFSETTO:+0100
TZNAME:CET
DTSTART:20231029T010000
END:STANDARD
BEGIN:DAYLIGHT
TZOFFSETFROM:+0100
TZOFFSETTO:+0200
TZNAME:CEST
DTSTART:20240331T010000
END:DAYLIGHT
BEGIN:STANDARD
TZOFFSETFROM:+0200
TZOFFSETTO:+0100
TZNAME:CET
DTSTART:20241027T010000
END:STANDARD
BEGIN:DAYLIGHT
TZOFFSETFROM:+0100
TZOFFSETTO:+0200
TZNAME:CEST
DTSTART:20250330T010000
END:DAYLIGHT
BEGIN:STANDARD
TZOFFSETFROM:+0200
TZOFFSETTO:+0100
TZNAME:CET
DTSTART:20251026T010000
END:STANDARD
END:VTIMEZONE
BEGIN:VEVENT
DTSTART;TZID=Europe/Berlin:20241212T190000
DTEND;TZID=Europe/Berlin:20241212T203000
DTSTAMP:20260422T110010
CREATED:20240715T120926Z
LAST-MODIFIED:20240715T120926Z
UID:17241-1734030000-1734035400@dr-fingerle.de
SUMMARY:WEIHNACHTS-KONZERT
DESCRIPTION:
URL:https://dr-fingerle.de/event/weihnachts-konzert/
LOCATION:Villa Najork\, Ferdinand-Lassalle-Str. 22\, Leipzig\, 04109\, Deutschland
CATEGORIES:Konzert
END:VEVENT
END:VCALENDAR